BEGIN:VCALENDAR
VERSION:2.0
PRODID:-//NADI Kampung Gemang - ECPv6.15.20//NONSGML v1.0//EN
CALSCALE:GREGORIAN
METHOD:PUBLISH
X-WR-CALNAME:NADI Kampung Gemang
X-ORIGINAL-URL:https://kggemang.nadi.my
X-WR-CALDESC:Events for NADI Kampung Gemang
REFRESH-INTERVAL;VALUE=DURATION:PT1H
X-Robots-Tag:noindex
X-PUBLISHED-TTL:PT1H
BEGIN:VTIMEZONE
TZID:UTC
BEGIN:STANDARD
TZOFFSETFROM:+0000
TZOFFSETTO:+0000
TZNAME:UTC
DTSTART:20230101T000000
END:STANDARD
END:VTIMEZONE
BEGIN:VEVENT
DTSTART;TZID=UTC:20240709T150000
DTEND;TZID=UTC:20240709T160000
DTSTAMP:20260424T201126
CREATED:20240710T083745Z
LAST-MODIFIED:20240710T083745Z
UID:3475-1720537200-1720540800@kggemang.nadi.my
SUMMARY:STEM : Spinning Paper Craft - Wind Energy & Rotation
DESCRIPTION:
URL:https://kggemang.nadi.my/event/stem-spinning-paper-craft-wind-energy-rotation-2/
LOCATION:PEDi Kg Gemang\, PEDi Kg Gemang
CATEGORIES:DEFAULT
END:VEVENT
BEGIN:VEVENT
DTSTART;TZID=UTC:20240709T160000
DTEND;TZID=UTC:20240709T170000
DTSTAMP:20260424T201126
CREATED:20240710T083830Z
LAST-MODIFIED:20240710T083830Z
UID:3476-1720540800-1720544400@kggemang.nadi.my
SUMMARY:STEM : Paper Airplane - Drag & Forces
DESCRIPTION:
URL:https://kggemang.nadi.my/event/stem-paper-airplane-drag-forces/
LOCATION:PEDi Kg Gemang\, PEDi Kg Gemang
CATEGORIES:DEFAULT
END:VEVENT
BEGIN:VEVENT
DTSTART;TZID=UTC:20240709T170000
DTEND;TZID=UTC:20240709T180000
DTSTAMP:20260424T201126
CREATED:20240711T024215Z
LAST-MODIFIED:20240711T024215Z
UID:3477-1720544400-1720548000@kggemang.nadi.my
SUMMARY:Softskill : Critical Thinking Skill - Tangram Builder
DESCRIPTION:
URL:https://kggemang.nadi.my/event/softskill-critical-thinking-skill-tangram-builder/
LOCATION:PEDi Kg Gemang\, PEDi Kg Gemang
CATEGORIES:DEFAULT
END:VEVENT
BEGIN:VEVENT
DTSTART;TZID=UTC:20240709T170000
DTEND;TZID=UTC:20240709T180000
DTSTAMP:20260424T201126
CREATED:20240711T024244Z
LAST-MODIFIED:20240711T024244Z
UID:3478-1720544400-1720548000@kggemang.nadi.my
SUMMARY:E- Pembelajaran : Matematik - Nombor & Bilangan
DESCRIPTION:
URL:https://kggemang.nadi.my/event/e-pembelajaran-matematik-nombor-bilangan/
LOCATION:PEDi Kg Gemang\, PEDi Kg Gemang
CATEGORIES:DEFAULT
END:VEVENT
END:VCALENDAR