BEGIN:VCALENDAR
VERSION:2.0
PRODID:-//NADI Kampung Gemang - ECPv6.15.20//NONSGML v1.0//EN
CALSCALE:GREGORIAN
METHOD:PUBLISH
X-WR-CALNAME:NADI Kampung Gemang
X-ORIGINAL-URL:https://kggemang.nadi.my
X-WR-CALDESC:Events for NADI Kampung Gemang
REFRESH-INTERVAL;VALUE=DURATION:PT1H
X-Robots-Tag:noindex
X-PUBLISHED-TTL:PT1H
BEGIN:VTIMEZONE
TZID:UTC
BEGIN:STANDARD
TZOFFSETFROM:+0000
TZOFFSETTO:+0000
TZNAME:UTC
DTSTART:20230101T000000
END:STANDARD
END:VTIMEZONE
BEGIN:VEVENT
DTSTART;TZID=UTC:20240720T100000
DTEND;TZID=UTC:20240720T110000
DTSTAMP:20260426T010449
CREATED:20240721T092605Z
LAST-MODIFIED:20240721T092605Z
UID:3484-1721469600-1721473200@kggemang.nadi.my
SUMMARY:Softskill: Creativity & Focus Skills - Coloring Online
DESCRIPTION:
URL:https://kggemang.nadi.my/event/softskill-creativity-focus-skills-coloring-online/
LOCATION:PEDi Kg Gemang\, PEDi Kg Gemang
CATEGORIES:DEFAULT
END:VEVENT
BEGIN:VEVENT
DTSTART;TZID=UTC:20240720T150000
DTEND;TZID=UTC:20240720T160000
DTSTAMP:20260426T010449
CREATED:20240722T073112Z
LAST-MODIFIED:20240722T073112Z
UID:3485-1721487600-1721491200@kggemang.nadi.my
SUMMARY:Kelas Keusahawanan : ChatGPT
DESCRIPTION:
URL:https://kggemang.nadi.my/event/kelas-keusahawanan-chatgpt-3/
LOCATION:PEDi Kg Gemang\, PEDi Kg Gemang
CATEGORIES:DEFAULT
END:VEVENT
BEGIN:VEVENT
DTSTART;TZID=UTC:20240720T160000
DTEND;TZID=UTC:20240720T170000
DTSTAMP:20260426T010449
CREATED:20240722T073155Z
LAST-MODIFIED:20240722T073155Z
UID:3486-1721491200-1721494800@kggemang.nadi.my
SUMMARY:Kelas Keusahawanan : AI Bing Image Creator
DESCRIPTION:
URL:https://kggemang.nadi.my/event/kelas-keusahawanan-ai-bing-image-creator/
LOCATION:PEDi Kg Gemang\, PEDi Kg Gemang
CATEGORIES:DEFAULT
END:VEVENT
BEGIN:VEVENT
DTSTART;TZID=UTC:20240720T170000
DTEND;TZID=UTC:20240720T180000
DTSTAMP:20260426T010449
CREATED:20240722T082038Z
LAST-MODIFIED:20240722T082038Z
UID:3487-1721494800-1721498400@kggemang.nadi.my
SUMMARY:Kelas Keusahawanan : Suntingan gambar dengan AI
DESCRIPTION:
URL:https://kggemang.nadi.my/event/kelas-keusahawanan-suntingan-gambar-dengan-ai/
LOCATION:PEDi Kg Gemang\, PEDi Kg Gemang
CATEGORIES:DEFAULT
END:VEVENT
END:VCALENDAR