BEGIN:VCALENDAR
VERSION:2.0
PRODID:-//NADI Kampung Gemang - ECPv6.15.20//NONSGML v1.0//EN
CALSCALE:GREGORIAN
METHOD:PUBLISH
X-WR-CALNAME:NADI Kampung Gemang
X-ORIGINAL-URL:https://kggemang.nadi.my
X-WR-CALDESC:Events for NADI Kampung Gemang
REFRESH-INTERVAL;VALUE=DURATION:PT1H
X-Robots-Tag:noindex
X-PUBLISHED-TTL:PT1H
BEGIN:VTIMEZONE
TZID:UTC
BEGIN:STANDARD
TZOFFSETFROM:+0000
TZOFFSETTO:+0000
TZNAME:UTC
DTSTART:20230101T000000
END:STANDARD
END:VTIMEZONE
BEGIN:VEVENT
DTSTART;TZID=UTC:20240801T103000
DTEND;TZID=UTC:20240801T113000
DTSTAMP:20260424T034413
CREATED:20240807T093542Z
LAST-MODIFIED:20240807T093542Z
UID:3488-1722508200-1722511800@kggemang.nadi.my
SUMMARY:Kelas ICT : Menaip Surat
DESCRIPTION:
URL:https://kggemang.nadi.my/event/kelas-ict-menaip-surat/
LOCATION:PEDi Kg Gemang\, PEDi Kg Gemang
CATEGORIES:DEFAULT
END:VEVENT
END:VCALENDAR