BEGIN:VCALENDAR
VERSION:2.0
PRODID:-//NADI Kampung Gemang - ECPv6.15.20//NONSGML v1.0//EN
CALSCALE:GREGORIAN
METHOD:PUBLISH
X-WR-CALNAME:NADI Kampung Gemang
X-ORIGINAL-URL:https://kggemang.nadi.my
X-WR-CALDESC:Events for NADI Kampung Gemang
REFRESH-INTERVAL;VALUE=DURATION:PT1H
X-Robots-Tag:noindex
X-PUBLISHED-TTL:PT1H
BEGIN:VTIMEZONE
TZID:UTC
BEGIN:STANDARD
TZOFFSETFROM:+0000
TZOFFSETTO:+0000
TZNAME:UTC
DTSTART:20230101T000000
END:STANDARD
END:VTIMEZONE
BEGIN:VEVENT
DTSTART;TZID=UTC:20240802T103000
DTEND;TZID=UTC:20240802T113000
DTSTAMP:20260425T051845
CREATED:20240807T093646Z
LAST-MODIFIED:20240807T093646Z
UID:3489-1722594600-1722598200@kggemang.nadi.my
SUMMARY:Softskill : Critical Thinking Skills - Tangram
DESCRIPTION:
URL:https://kggemang.nadi.my/event/softskill-critical-thinking-skills-tangram-2/
LOCATION:PEDi Kg Gemang\, PEDi Kg Gemang
CATEGORIES:DEFAULT
END:VEVENT
BEGIN:VEVENT
DTSTART;TZID=UTC:20240802T113000
DTEND;TZID=UTC:20240802T123000
DTSTAMP:20260425T051845
CREATED:20240807T093727Z
LAST-MODIFIED:20240807T093727Z
UID:3490-1722598200-1722601800@kggemang.nadi.my
SUMMARY:Softskill : Problem Solving Skill (Puzzle)
DESCRIPTION:
URL:https://kggemang.nadi.my/event/softskill-problem-solving-skill-puzzle-5/
LOCATION:PEDi Kg Gemang\, PEDi Kg Gemang
CATEGORIES:DEFAULT
END:VEVENT
BEGIN:VEVENT
DTSTART;TZID=UTC:20240802T143000
DTEND;TZID=UTC:20240802T153000
DTSTAMP:20260425T051845
CREATED:20240807T093837Z
LAST-MODIFIED:20240807T093837Z
UID:3491-1722609000-1722612600@kggemang.nadi.my
SUMMARY:E-Pembelajaran : Bahasa Melayu - Kata Imbuhan
DESCRIPTION:
URL:https://kggemang.nadi.my/event/e-pembelajaran-bahasa-melayu-kata-imbuhan/
LOCATION:PEDi Kg Gemang\, PEDi Kg Gemang
CATEGORIES:DEFAULT
END:VEVENT
BEGIN:VEVENT
DTSTART;TZID=UTC:20240802T153000
DTEND;TZID=UTC:20240802T163000
DTSTAMP:20260425T051845
CREATED:20240807T093917Z
LAST-MODIFIED:20240807T093917Z
UID:3492-1722612600-1722616200@kggemang.nadi.my
SUMMARY:E-Pembelajaran : Ulangkaji Matematik
DESCRIPTION:
URL:https://kggemang.nadi.my/event/e-pembelajaran-ulangkaji-matematik-3/
LOCATION:PEDi Kg Gemang\, PEDi Kg Gemang
CATEGORIES:DEFAULT
END:VEVENT
BEGIN:VEVENT
DTSTART;TZID=UTC:20240802T163000
DTEND;TZID=UTC:20240802T173000
DTSTAMP:20260425T051845
CREATED:20240811T074947Z
LAST-MODIFIED:20240811T074947Z
UID:3493-1722616200-1722619800@kggemang.nadi.my
SUMMARY:E- Pembelajaran : Tulisan Jawi
DESCRIPTION:
URL:https://kggemang.nadi.my/event/e-pembelajaran-tulisan-jawi/
LOCATION:PEDi Kg Gemang\, PEDi Kg Gemang
CATEGORIES:DEFAULT
END:VEVENT
END:VCALENDAR