BEGIN:VCALENDAR
VERSION:2.0
PRODID:-//NADI Kampung Gemang - ECPv6.15.20//NONSGML v1.0//EN
CALSCALE:GREGORIAN
METHOD:PUBLISH
X-WR-CALNAME:NADI Kampung Gemang
X-ORIGINAL-URL:https://kggemang.nadi.my
X-WR-CALDESC:Events for NADI Kampung Gemang
REFRESH-INTERVAL;VALUE=DURATION:PT1H
X-Robots-Tag:noindex
X-PUBLISHED-TTL:PT1H
BEGIN:VTIMEZONE
TZID:UTC
BEGIN:STANDARD
TZOFFSETFROM:+0000
TZOFFSETTO:+0000
TZNAME:UTC
DTSTART:20230101T000000
END:STANDARD
END:VTIMEZONE
BEGIN:VEVENT
DTSTART;TZID=UTC:20240920T100000
DTEND;TZID=UTC:20240920T110000
DTSTAMP:20260425T100956
CREATED:20240924T032641Z
LAST-MODIFIED:20240924T032641Z
UID:3513-1726826400-1726830000@kggemang.nadi.my
SUMMARY:Program A&P : Kelas AI Usahawan : Chat GPT & Bing Image  Creator
DESCRIPTION:
URL:https://kggemang.nadi.my/event/program-ap-kelas-ai-usahawan-chat-gpt-bing-image-creator/
LOCATION:NADI Kg Gemang\, NADI Kg Gemang
CATEGORIES:DEFAULT
END:VEVENT
BEGIN:VEVENT
DTSTART;TZID=UTC:20240920T110000
DTEND;TZID=UTC:20240920T130000
DTSTAMP:20260425T100956
CREATED:20240924T033236Z
LAST-MODIFIED:20240924T033236Z
UID:3514-1726830000-1726837200@kggemang.nadi.my
SUMMARY:Program A&P : Kelas AI Usahawan : Pertandingan Poster
DESCRIPTION:
URL:https://kggemang.nadi.my/event/program-ap-kelas-ai-usahawan-pertandingan-poster/
LOCATION:NADI Kg Gemang\, NADI Kg Gemang
CATEGORIES:DEFAULT
END:VEVENT
BEGIN:VEVENT
DTSTART;TZID=UTC:20240920T140000
DTEND;TZID=UTC:20240920T170000
DTSTAMP:20260425T100956
CREATED:20240924T033304Z
LAST-MODIFIED:20240924T033304Z
UID:3515-1726840800-1726851600@kggemang.nadi.my
SUMMARY:Program A&P : Kelas AI untuk Rakyat
DESCRIPTION:
URL:https://kggemang.nadi.my/event/program-ap-kelas-ai-untuk-rakyat/
LOCATION:NADI Kg Gemang\, NADI Kg Gemang
CATEGORIES:DEFAULT
END:VEVENT
END:VCALENDAR