BEGIN:VCALENDAR
VERSION:2.0
PRODID:-//NADI Kampung Gemang - ECPv6.15.13.1//NONSGML v1.0//EN
CALSCALE:GREGORIAN
METHOD:PUBLISH
X-WR-CALNAME:NADI Kampung Gemang
X-ORIGINAL-URL:https://kggemang.nadi.my
X-WR-CALDESC:Events for NADI Kampung Gemang
REFRESH-INTERVAL;VALUE=DURATION:PT1H
X-Robots-Tag:noindex
X-PUBLISHED-TTL:PT1H
BEGIN:VTIMEZONE
TZID:Asia/Kuala_Lumpur
BEGIN:STANDARD
TZOFFSETFROM:+0800
TZOFFSETTO:+0800
TZNAME:+08
DTSTART:20230101T000000
END:STANDARD
END:VTIMEZONE
BEGIN:VEVENT
DTSTART;TZID=Asia/Kuala_Lumpur:20241103T100000
DTEND;TZID=Asia/Kuala_Lumpur:20241103T130000
DTSTAMP:20260422T020243
CREATED:20250107T035506Z
LAST-MODIFIED:20250107T035506Z
UID:3726-1730628000-1730638800@kggemang.nadi.my
SUMMARY:Taklimat NADI Safe-Shield – SK Lubok Bongor
DESCRIPTION:
URL:https://kggemang.nadi.my/event/taklimat-nadi-safe-shield-sk-lubok-bongor/
LOCATION:SK LUBOK BONGOR
END:VEVENT
END:VCALENDAR