BEGIN:VCALENDAR
VERSION:2.0
PRODID:-//NADI Kampung Gemang - ECPv6.15.13.1//NONSGML v1.0//EN
CALSCALE:GREGORIAN
METHOD:PUBLISH
X-WR-CALNAME:NADI Kampung Gemang
X-ORIGINAL-URL:https://kggemang.nadi.my
X-WR-CALDESC:Events for NADI Kampung Gemang
REFRESH-INTERVAL;VALUE=DURATION:PT1H
X-Robots-Tag:noindex
X-PUBLISHED-TTL:PT1H
BEGIN:VTIMEZONE
TZID:Asia/Kuala_Lumpur
BEGIN:STANDARD
TZOFFSETFROM:+0800
TZOFFSETTO:+0800
TZNAME:+08
DTSTART:20230101T000000
END:STANDARD
END:VTIMEZONE
BEGIN:VEVENT
DTSTART;TZID=Asia/Kuala_Lumpur:20241121T090000
DTEND;TZID=Asia/Kuala_Lumpur:20241121T170000
DTSTAMP:20260423T161441
CREATED:20250107T075601Z
LAST-MODIFIED:20250107T075601Z
UID:3755-1732179600-1732208400@kggemang.nadi.my
SUMMARY:PROGRAM KEUSAHAWANAN BERSAMA AMANAH IKHTIAR MALAYSIA (AIM)
DESCRIPTION:
URL:https://kggemang.nadi.my/event/program-keusahawanan-bersama-amanah-ikhtiar-malaysia-aim/
LOCATION:NADI Kg Gemang\, NADI Kg Gemang
END:VEVENT
END:VCALENDAR