BEGIN:VCALENDAR
VERSION:2.0
PRODID:-//NADI Kampung Gemang - ECPv6.15.13.1//NONSGML v1.0//EN
CALSCALE:GREGORIAN
METHOD:PUBLISH
X-WR-CALNAME:NADI Kampung Gemang
X-ORIGINAL-URL:https://kggemang.nadi.my
X-WR-CALDESC:Events for NADI Kampung Gemang
REFRESH-INTERVAL;VALUE=DURATION:PT1H
X-Robots-Tag:noindex
X-PUBLISHED-TTL:PT1H
BEGIN:VTIMEZONE
TZID:Asia/Kuala_Lumpur
BEGIN:STANDARD
TZOFFSETFROM:+0800
TZOFFSETTO:+0800
TZNAME:+08
DTSTART:20230101T000000
END:STANDARD
END:VTIMEZONE
BEGIN:VEVENT
DTSTART;TZID=Asia/Kuala_Lumpur:20241127T090000
DTEND;TZID=Asia/Kuala_Lumpur:20241127T110000
DTSTAMP:20260421T201557
CREATED:20250107T080722Z
LAST-MODIFIED:20250107T080722Z
UID:3760-1732698000-1732705200@kggemang.nadi.my
SUMMARY:Taklimat NADI Safe-Shield – SMK Jeli
DESCRIPTION:
URL:https://kggemang.nadi.my/event/taklimat-nadi-safe-shield-smk-jeli/
LOCATION:SMK JELI
END:VEVENT
BEGIN:VEVENT
DTSTART;TZID=Asia/Kuala_Lumpur:20241127T110000
DTEND;TZID=Asia/Kuala_Lumpur:20241127T130000
DTSTAMP:20260421T201557
CREATED:20250107T080831Z
LAST-MODIFIED:20250107T080831Z
UID:3763-1732705200-1732712400@kggemang.nadi.my
SUMMARY:Taklimat NADI Safe-Shield – SK Sungai Long
DESCRIPTION:
URL:https://kggemang.nadi.my/event/taklimat-nadi-safe-shield-sk-sungai-long/
LOCATION:SK SUNGAI LONG
END:VEVENT
END:VCALENDAR