BEGIN:VCALENDAR
VERSION:2.0
PRODID:-//NADI Kampung Gemang - ECPv6.15.13.1//NONSGML v1.0//EN
CALSCALE:GREGORIAN
METHOD:PUBLISH
X-WR-CALNAME:NADI Kampung Gemang
X-ORIGINAL-URL:https://kggemang.nadi.my
X-WR-CALDESC:Events for NADI Kampung Gemang
REFRESH-INTERVAL;VALUE=DURATION:PT1H
X-Robots-Tag:noindex
X-PUBLISHED-TTL:PT1H
BEGIN:VTIMEZONE
TZID:Asia/Kuala_Lumpur
BEGIN:STANDARD
TZOFFSETFROM:+0800
TZOFFSETTO:+0800
TZNAME:+08
DTSTART:20240101T000000
END:STANDARD
END:VTIMEZONE
BEGIN:VEVENT
DTSTART;TZID=Asia/Kuala_Lumpur:20250228T140000
DTEND;TZID=Asia/Kuala_Lumpur:20250228T150000
DTSTAMP:20260421T020723
CREATED:20250306T033620Z
LAST-MODIFIED:20250306T033620Z
UID:4595-1740751200-1740754800@kggemang.nadi.my
SUMMARY:NADI4U - MAHIR JAHIT - ASAS JAHITAN TANGAN
DESCRIPTION:
URL:https://kggemang.nadi.my/event/nadi4u-mahir-jahit-asas-jahitan-tangan-2/
END:VEVENT
END:VCALENDAR