BEGIN:VCALENDAR
VERSION:2.0
PRODID:-//NADI Kampung Gemang - ECPv6.15.13.1//NONSGML v1.0//EN
CALSCALE:GREGORIAN
METHOD:PUBLISH
X-WR-CALNAME:NADI Kampung Gemang
X-ORIGINAL-URL:https://kggemang.nadi.my
X-WR-CALDESC:Events for NADI Kampung Gemang
REFRESH-INTERVAL;VALUE=DURATION:PT1H
X-Robots-Tag:noindex
X-PUBLISHED-TTL:PT1H
BEGIN:VTIMEZONE
TZID:Asia/Kuala_Lumpur
BEGIN:STANDARD
TZOFFSETFROM:+0800
TZOFFSETTO:+0800
TZNAME:+08
DTSTART:20240101T000000
END:STANDARD
END:VTIMEZONE
BEGIN:VEVENT
DTSTART;TZID=Asia/Kuala_Lumpur:20250320T093000
DTEND;TZID=Asia/Kuala_Lumpur:20250320T110000
DTSTAMP:20260419T231951
CREATED:20250324T073901Z
LAST-MODIFIED:20250324T073901Z
UID:4663-1742463000-1742468400@kggemang.nadi.my
SUMMARY:NADI4U - MAHIR MASAK - SHELL TART - FRUIT TART
DESCRIPTION:
URL:https://kggemang.nadi.my/event/nadi4u-mahir-masak-shell-tart-fruit-tart/
LOCATION:NADI Kampung Gemang
END:VEVENT
BEGIN:VEVENT
DTSTART;TZID=Asia/Kuala_Lumpur:20250320T153000
DTEND;TZID=Asia/Kuala_Lumpur:20250320T163000
DTSTAMP:20260419T231951
CREATED:20250324T073804Z
LAST-MODIFIED:20250324T073804Z
UID:4661-1742484600-1742488200@kggemang.nadi.my
SUMMARY:NADI4U - DILEA - BAHASA INGGERIS
DESCRIPTION:
URL:https://kggemang.nadi.my/event/nadi4u-dilea-bahasa-inggeris/
LOCATION:NADI Kampung Gemang
END:VEVENT
END:VCALENDAR