BEGIN:VCALENDAR
VERSION:2.0
PRODID:-//NADI Kampung Gemang - ECPv6.15.13.1//NONSGML v1.0//EN
CALSCALE:GREGORIAN
METHOD:PUBLISH
X-WR-CALNAME:NADI Kampung Gemang
X-ORIGINAL-URL:https://kggemang.nadi.my
X-WR-CALDESC:Events for NADI Kampung Gemang
REFRESH-INTERVAL;VALUE=DURATION:PT1H
X-Robots-Tag:noindex
X-PUBLISHED-TTL:PT1H
BEGIN:VTIMEZONE
TZID:Asia/Kuala_Lumpur
BEGIN:STANDARD
TZOFFSETFROM:+0800
TZOFFSETTO:+0800
TZNAME:+08
DTSTART:20240101T000000
END:STANDARD
END:VTIMEZONE
BEGIN:VEVENT
DTSTART;TZID=Asia/Kuala_Lumpur:20250407T093000
DTEND;TZID=Asia/Kuala_Lumpur:20250407T103000
DTSTAMP:20260421T000135
CREATED:20250408T095755Z
LAST-MODIFIED:20250408T095755Z
UID:4804-1744018200-1744021800@kggemang.nadi.my
SUMMARY:MAHIR JAHIT - DRAF POLA KURUNG MODEN
DESCRIPTION:
URL:https://kggemang.nadi.my/event/mahir-jahit-draf-pola-kurung-moden/
LOCATION:NADI Kampung Gemang
END:VEVENT
BEGIN:VEVENT
DTSTART;TZID=Asia/Kuala_Lumpur:20250407T153000
DTEND;TZID=Asia/Kuala_Lumpur:20250407T163000
DTSTAMP:20260421T000135
CREATED:20250408T095831Z
LAST-MODIFIED:20250408T095831Z
UID:4806-1744039800-1744043400@kggemang.nadi.my
SUMMARY:DILEA - BAHASA MELAYU TINGKATAN 5 (LIVE CLASS) - KERTAS 2
DESCRIPTION:
URL:https://kggemang.nadi.my/event/dilea-bahasa-melayu-tingkatan-5-live-class-kertas-2/
LOCATION:NADI Kampung Gemang
END:VEVENT
END:VCALENDAR