BEGIN:VCALENDAR
VERSION:2.0
PRODID:-//NADI Kampung Gemang - ECPv6.15.13.1//NONSGML v1.0//EN
CALSCALE:GREGORIAN
METHOD:PUBLISH
X-WR-CALNAME:NADI Kampung Gemang
X-ORIGINAL-URL:https://kggemang.nadi.my
X-WR-CALDESC:Events for NADI Kampung Gemang
REFRESH-INTERVAL;VALUE=DURATION:PT1H
X-Robots-Tag:noindex
X-PUBLISHED-TTL:PT1H
BEGIN:VTIMEZONE
TZID:Asia/Kuala_Lumpur
BEGIN:STANDARD
TZOFFSETFROM:+0800
TZOFFSETTO:+0800
TZNAME:+08
DTSTART:20240101T000000
END:STANDARD
END:VTIMEZONE
BEGIN:VEVENT
DTSTART;TZID=Asia/Kuala_Lumpur:20250412T140000
DTEND;TZID=Asia/Kuala_Lumpur:20250412T160000
DTSTAMP:20260421T225843
CREATED:20250416T071538Z
LAST-MODIFIED:20250416T071731Z
UID:4833-1744466400-1744473600@kggemang.nadi.my
SUMMARY:MAHIR FOTO - SESI BERSAMA PAKAR INDUSTRI DAN CONTENT CREATOR
DESCRIPTION:
URL:https://kggemang.nadi.my/event/mahir-foto-sesi-bersama-pakar-industri-dan-content-creator/
LOCATION:NADI Kampung Gemang
END:VEVENT
BEGIN:VEVENT
DTSTART;TZID=Asia/Kuala_Lumpur:20250412T143000
DTEND;TZID=Asia/Kuala_Lumpur:20250412T163000
DTSTAMP:20260421T225843
CREATED:20250416T071608Z
LAST-MODIFIED:20250416T071742Z
UID:4835-1744468200-1744475400@kggemang.nadi.my
SUMMARY:MAHIR JAHIT - DRAF POLA KURUNG MODEN
DESCRIPTION:
URL:https://kggemang.nadi.my/event/mahir-jahit-draf-pola-kurung-moden-2/
LOCATION:NADI Kampung Gemang
END:VEVENT
END:VCALENDAR