BEGIN:VCALENDAR
VERSION:2.0
PRODID:-//NADI Kampung Gemang - ECPv6.15.13.1//NONSGML v1.0//EN
CALSCALE:GREGORIAN
METHOD:PUBLISH
X-WR-CALNAME:NADI Kampung Gemang
X-ORIGINAL-URL:https://kggemang.nadi.my
X-WR-CALDESC:Events for NADI Kampung Gemang
REFRESH-INTERVAL;VALUE=DURATION:PT1H
X-Robots-Tag:noindex
X-PUBLISHED-TTL:PT1H
BEGIN:VTIMEZONE
TZID:Asia/Kuala_Lumpur
BEGIN:STANDARD
TZOFFSETFROM:+0800
TZOFFSETTO:+0800
TZNAME:+08
DTSTART:20240101T000000
END:STANDARD
END:VTIMEZONE
BEGIN:VEVENT
DTSTART;TZID=Asia/Kuala_Lumpur:20250418T093000
DTEND;TZID=Asia/Kuala_Lumpur:20250418T113000
DTSTAMP:20260419T211932
CREATED:20250520T091249Z
LAST-MODIFIED:20250520T091249Z
UID:5076-1744968600-1744975800@kggemang.nadi.my
SUMMARY:MAHIR MASAK - SOS PIZA DAN LASAGNA
DESCRIPTION:
URL:https://kggemang.nadi.my/event/mahir-masak-sos-piza-dan-lasagna/
END:VEVENT
BEGIN:VEVENT
DTSTART;TZID=Asia/Kuala_Lumpur:20250418T143000
DTEND;TZID=Asia/Kuala_Lumpur:20250418T163000
DTSTAMP:20260419T211932
CREATED:20250523T020752Z
LAST-MODIFIED:20250523T020752Z
UID:5079-1744986600-1744993800@kggemang.nadi.my
SUMMARY:MAHIR JAHIT - MEMOTONG FABRIK KURUNG MODEN
DESCRIPTION:
URL:https://kggemang.nadi.my/event/mahir-jahit-memotong-fabrik-kurung-moden-2/
LOCATION:NADI Kampung Gemang
END:VEVENT
END:VCALENDAR