BEGIN:VCALENDAR
VERSION:2.0
PRODID:-//NADI Kampung Gemang - ECPv6.15.20//NONSGML v1.0//EN
CALSCALE:GREGORIAN
METHOD:PUBLISH
X-WR-CALNAME:NADI Kampung Gemang
X-ORIGINAL-URL:https://kggemang.nadi.my
X-WR-CALDESC:Events for NADI Kampung Gemang
REFRESH-INTERVAL;VALUE=DURATION:PT1H
X-Robots-Tag:noindex
X-PUBLISHED-TTL:PT1H
BEGIN:VTIMEZONE
TZID:UTC
BEGIN:STANDARD
TZOFFSETFROM:+0000
TZOFFSETTO:+0000
TZNAME:UTC
DTSTART:20230101T000000
END:STANDARD
END:VTIMEZONE
BEGIN:VEVENT
DTSTART;TZID=UTC:20240604T170000
DTEND;TZID=UTC:20240604T180000
DTSTAMP:20260425T215802
CREATED:20240609T025928Z
LAST-MODIFIED:20240609T025928Z
UID:3456-1717520400-1717524000@kggemang.nadi.my
SUMMARY:E-Pembelajaran: Ulangkaji Matematik
DESCRIPTION:
URL:https://kggemang.nadi.my/event/e-pembelajaran-ulangkaji-matematik-2/
LOCATION:PEDi Kg Gemang\, PEDi Kg Gemang
CATEGORIES:DEFAULT
END:VEVENT
BEGIN:VEVENT
DTSTART;TZID=UTC:20240605T160000
DTEND;TZID=UTC:20240605T170000
DTSTAMP:20260425T215802
CREATED:20240609T030012Z
LAST-MODIFIED:20240609T030012Z
UID:3457-1717603200-1717606800@kggemang.nadi.my
SUMMARY:Program NADI : Pengenalan NADI Kg Gemang & KDB
DESCRIPTION:
URL:https://kggemang.nadi.my/event/program-nadi-pengenalan-nadi-kg-gemang-kdb/
LOCATION:PEDi Kg Gemang\, PEDi Kg Gemang
CATEGORIES:DEFAULT
END:VEVENT
BEGIN:VEVENT
DTSTART;TZID=UTC:20240605T170000
DTEND;TZID=UTC:20240605T180000
DTSTAMP:20260425T215802
CREATED:20240609T030052Z
LAST-MODIFIED:20240609T030052Z
UID:3458-1717606800-1717610400@kggemang.nadi.my
SUMMARY:Kuiz ICT : Kuiz Pengetahuan AM NADI
DESCRIPTION:
URL:https://kggemang.nadi.my/event/kuiz-ict-kuiz-pengetahuan-am-nadi/
LOCATION:PEDi Kg Gemang\, PEDi Kg Gemang
CATEGORIES:DEFAULT
END:VEVENT
BEGIN:VEVENT
DTSTART;TZID=UTC:20240606T120000
DTEND;TZID=UTC:20240606T130000
DTSTAMP:20260425T215802
CREATED:20240609T030124Z
LAST-MODIFIED:20240609T030124Z
UID:3459-1717675200-1717678800@kggemang.nadi.my
SUMMARY:Kelas ICT: MS Excel - Data Pekerja & Bayaran
DESCRIPTION:
URL:https://kggemang.nadi.my/event/kelas-ict-ms-excel-data-pekerja-bayaran/
LOCATION:PEDi Kg Gemang\, PEDi Kg Gemang
CATEGORIES:DEFAULT
END:VEVENT
BEGIN:VEVENT
DTSTART;TZID=UTC:20240607T160000
DTEND;TZID=UTC:20240607T170000
DTSTAMP:20260425T215802
CREATED:20240609T030205Z
LAST-MODIFIED:20240609T030205Z
UID:3460-1717776000-1717779600@kggemang.nadi.my
SUMMARY:Softskill: Critical Thinking Skill - Sudoku
DESCRIPTION:
URL:https://kggemang.nadi.my/event/softskill-critical-thinking-skill-sudoku/
LOCATION:PEDi Kg Gemang\, PEDi Kg Gemang
CATEGORIES:DEFAULT
END:VEVENT
BEGIN:VEVENT
DTSTART;TZID=UTC:20240607T170000
DTEND;TZID=UTC:20240607T180000
DTSTAMP:20260425T215802
CREATED:20240610T010237Z
LAST-MODIFIED:20240610T010237Z
UID:3461-1717779600-1717783200@kggemang.nadi.my
SUMMARY:Softskill: Problem Solving Skill - Wordsearch
DESCRIPTION:
URL:https://kggemang.nadi.my/event/softskill-problem-solving-skill-wordsearch/
LOCATION:PEDi Kg Gemang\, PEDi Kg Gemang
CATEGORIES:DEFAULT
END:VEVENT
BEGIN:VEVENT
DTSTART;TZID=UTC:20240608T050000
DTEND;TZID=UTC:20240608T180000
DTSTAMP:20260425T215802
CREATED:20240610T010345Z
LAST-MODIFIED:20240610T010345Z
UID:3462-1717822800-1717869600@kggemang.nadi.my
SUMMARY:Kelas Keusahawanan : ChatGPT - Teknik Promosi Produk & Idea Content Tiktok
DESCRIPTION:
URL:https://kggemang.nadi.my/event/kelas-keusahawanan-chatgpt-teknik-promosi-produk-idea-content-tiktok/
LOCATION:PEDi Kg Gemang\, PEDi Kg Gemang
CATEGORIES:DEFAULT
END:VEVENT
BEGIN:VEVENT
DTSTART;TZID=UTC:20240611T153000
DTEND;TZID=UTC:20240611T163000
DTSTAMP:20260425T215802
CREATED:20240613T031349Z
LAST-MODIFIED:20240613T031349Z
UID:3463-1718119800-1718123400@kggemang.nadi.my
SUMMARY:Kelas ICT : Training - MS Word
DESCRIPTION:
URL:https://kggemang.nadi.my/event/kelas-ict-training-ms-word/
LOCATION:PEDi Kg Gemang\, PEDi Kg Gemang
CATEGORIES:DEFAULT
END:VEVENT
BEGIN:VEVENT
DTSTART;TZID=UTC:20240611T170000
DTEND;TZID=UTC:20240611T180000
DTSTAMP:20260425T215802
CREATED:20240613T031425Z
LAST-MODIFIED:20240613T031425Z
UID:3464-1718125200-1718128800@kggemang.nadi.my
SUMMARY:STEM : Dynamic System
DESCRIPTION:
URL:https://kggemang.nadi.my/event/stem-dynamic-system-3/
LOCATION:PEDi Kg Gemang\, PEDi Kg Gemang
CATEGORIES:DEFAULT
END:VEVENT
BEGIN:VEVENT
DTSTART;TZID=UTC:20240612T160000
DTEND;TZID=UTC:20240612T170000
DTSTAMP:20260425T215802
CREATED:20240613T031459Z
LAST-MODIFIED:20240613T031459Z
UID:3465-1718208000-1718211600@kggemang.nadi.my
SUMMARY:STEM : Air Balloon - Stability & Air Pressure
DESCRIPTION:
URL:https://kggemang.nadi.my/event/stem-air-balloon-stability-air-pressure/
LOCATION:PEDi Kg Gemang\, PEDi Kg Gemang
CATEGORIES:DEFAULT
END:VEVENT
BEGIN:VEVENT
DTSTART;TZID=UTC:20240612T170000
DTEND;TZID=UTC:20240612T180000
DTSTAMP:20260425T215802
CREATED:20240620T015822Z
LAST-MODIFIED:20240620T015822Z
UID:3466-1718211600-1718215200@kggemang.nadi.my
SUMMARY:STEM : Boomerang - Aerodynamics & Air Resistance
DESCRIPTION:
URL:https://kggemang.nadi.my/event/stem-boomerang-aerodynamics-air-resistance/
LOCATION:PEDi Kg Gemang\, PEDi Kg Gemang
CATEGORIES:DEFAULT
END:VEVENT
BEGIN:VEVENT
DTSTART;TZID=UTC:20240613T170000
DTEND;TZID=UTC:20240613T180000
DTSTAMP:20260425T215802
CREATED:20240620T015912Z
LAST-MODIFIED:20240620T015912Z
UID:3467-1718298000-1718301600@kggemang.nadi.my
SUMMARY:E-Pembelajaran: Matematik - Nombor Bundar
DESCRIPTION:
URL:https://kggemang.nadi.my/event/e-pembelajaran-matematik-nombor-bundar-2/
LOCATION:PEDi Kg Gemang\, PEDi Kg Gemang
CATEGORIES:DEFAULT
END:VEVENT
BEGIN:VEVENT
DTSTART;TZID=UTC:20240614T113000
DTEND;TZID=UTC:20240614T123000
DTSTAMP:20260425T215802
CREATED:20240620T015952Z
LAST-MODIFIED:20240620T015952Z
UID:3468-1718364600-1718368200@kggemang.nadi.my
SUMMARY:E-Pembelajaran : Pengiraan Asas Matematik -Tambah\, Tolak\, Darab & Bahagi
DESCRIPTION:
URL:https://kggemang.nadi.my/event/e-pembelajaran-pengiraan-asas-matematik-tambah-tolak-darab-bahagi/
LOCATION:PEDi Kg Gemang\, PEDi Kg Gemang
CATEGORIES:DEFAULT
END:VEVENT
BEGIN:VEVENT
DTSTART;TZID=UTC:20240614T113000
DTEND;TZID=UTC:20240614T123000
DTSTAMP:20260425T215802
CREATED:20240620T020053Z
LAST-MODIFIED:20240620T020053Z
UID:3469-1718364600-1718368200@kggemang.nadi.my
SUMMARY:E- Pembelajaran : Nombor\, Bentuk & Warna
DESCRIPTION:
URL:https://kggemang.nadi.my/event/e-pembelajaran-nombor-bentuk-warna/
LOCATION:PEDi Kg Gemang\, PEDi Kg Gemang
CATEGORIES:DEFAULT
END:VEVENT
BEGIN:VEVENT
DTSTART;TZID=UTC:20240614T160000
DTEND;TZID=UTC:20240614T170000
DTSTAMP:20260425T215802
CREATED:20240620T020118Z
LAST-MODIFIED:20240620T020118Z
UID:3470-1718380800-1718384400@kggemang.nadi.my
SUMMARY:Kelas Keusahawanan : Pendaftaran Akaun Shopee & Kedai Shopee
DESCRIPTION:
URL:https://kggemang.nadi.my/event/kelas-keusahawanan-pendaftaran-akaun-shopee-kedai-shopee/
LOCATION:PEDi Kg Gemang\, PEDi Kg Gemang
CATEGORIES:DEFAULT
END:VEVENT
BEGIN:VEVENT
DTSTART;TZID=UTC:20240614T170000
DTEND;TZID=UTC:20240614T180000
DTSTAMP:20260425T215802
CREATED:20240620T032202Z
LAST-MODIFIED:20240620T032202Z
UID:3471-1718384400-1718388000@kggemang.nadi.my
SUMMARY:Kelas Keusahawanan : Logo Bisnes - Canva
DESCRIPTION:
URL:https://kggemang.nadi.my/event/kelas-keusahawanan-logo-bisnes-canva/
LOCATION:PEDi Kg Gemang\, PEDi Kg Gemang
CATEGORIES:DEFAULT
END:VEVENT
END:VCALENDAR