BEGIN:VCALENDAR
VERSION:2.0
PRODID:-//NADI Kampung Gemang - ECPv6.15.13.1//NONSGML v1.0//EN
CALSCALE:GREGORIAN
METHOD:PUBLISH
X-WR-CALNAME:NADI Kampung Gemang
X-ORIGINAL-URL:https://kggemang.nadi.my
X-WR-CALDESC:Events for NADI Kampung Gemang
REFRESH-INTERVAL;VALUE=DURATION:PT1H
X-Robots-Tag:noindex
X-PUBLISHED-TTL:PT1H
BEGIN:VTIMEZONE
TZID:Asia/Kuala_Lumpur
BEGIN:STANDARD
TZOFFSETFROM:+0800
TZOFFSETTO:+0800
TZNAME:+08
DTSTART:20230101T000000
END:STANDARD
END:VTIMEZONE
BEGIN:VEVENT
DTSTART;TZID=Asia/Kuala_Lumpur:20241009T100000
DTEND;TZID=Asia/Kuala_Lumpur:20241009T130000
DTSTAMP:20260422T231906
CREATED:20250104T073725Z
LAST-MODIFIED:20250104T084752Z
UID:3554-1728468000-1728478800@kggemang.nadi.my
SUMMARY:TAKLIMAT NADI SAFE-SHIELD - SMK KUALA BALAH
DESCRIPTION:Bertujuan untuk meningkatkan kesedaran keselamatan dalam talian khususnya kepada pelajar sekolah.
URL:https://kggemang.nadi.my/event/taklimat-nadi-safe-shield-smk-kuala-balah/
LOCATION:SMK KUALA BALAH
END:VEVENT
BEGIN:VEVENT
DTSTART;TZID=Asia/Kuala_Lumpur:20241010T090000
DTEND;TZID=Asia/Kuala_Lumpur:20241010T110000
DTSTAMP:20260422T231906
CREATED:20250104T081843Z
LAST-MODIFIED:20250104T084741Z
UID:3563-1728550800-1728558000@kggemang.nadi.my
SUMMARY:TAKLIMAT NADI SAFE-SHIELD - SK BUKIT JERING
DESCRIPTION:Bertujuan untuk meningkatkan kesedaran keselamatan dalam talian khususnya kepada pelajar sekolah.
URL:https://kggemang.nadi.my/event/taklimat-nadi-safe-shield-sk-bukit-jering/
LOCATION:SK BUKIT JERING
END:VEVENT
BEGIN:VEVENT
DTSTART;TZID=Asia/Kuala_Lumpur:20241014T104000
DTEND;TZID=Asia/Kuala_Lumpur:20241014T124000
DTSTAMP:20260422T231906
CREATED:20250104T082840Z
LAST-MODIFIED:20250104T084725Z
UID:3567-1728902400-1728909600@kggemang.nadi.my
SUMMARY:TAKLIMAT NADI SAFE-SHIELD - SK AYER LANAS
DESCRIPTION:Bertujuan untuk meningkatkan kesedaran keselamatan dalam talian khususnya kepada pelajar sekolah.
URL:https://kggemang.nadi.my/event/taklimat-nadi-safe-shield-sk-ayer-lanas/
LOCATION:SK AYER LANAS
END:VEVENT
BEGIN:VEVENT
DTSTART;TZID=Asia/Kuala_Lumpur:20241015T100000
DTEND;TZID=Asia/Kuala_Lumpur:20241015T130000
DTSTAMP:20260422T231906
CREATED:20250104T084400Z
LAST-MODIFIED:20250104T084400Z
UID:3570-1728986400-1728997200@kggemang.nadi.my
SUMMARY:TAKLIMAT NADI SAFE-SHIELD – SK LEGEH
DESCRIPTION:Bertujuan untuk meningkatkan kesedaran keselamatan dalam talian khususnya kepada pelajar sekolah.
URL:https://kggemang.nadi.my/event/taklimat-nadi-safe-shield-sk-legeh/
LOCATION:SK LEGEH
END:VEVENT
BEGIN:VEVENT
DTSTART;TZID=Asia/Kuala_Lumpur:20241016T100000
DTEND;TZID=Asia/Kuala_Lumpur:20241016T130000
DTSTAMP:20260422T231906
CREATED:20250104T090415Z
LAST-MODIFIED:20250104T090415Z
UID:3576-1729072800-1729083600@kggemang.nadi.my
SUMMARY:TAKLIMAT NADI SAFE-SHIELD - SK JELI 2
DESCRIPTION:Bertujuan untuk meningkatkan kesedaran keselamatan dalam talian khususnya kepada pelajar sekolah.
URL:https://kggemang.nadi.my/event/taklimat-nadi-safe-shield-sk-jeli-2/
LOCATION:SK JELI 2
END:VEVENT
BEGIN:VEVENT
DTSTART;TZID=Asia/Kuala_Lumpur:20241017T100000
DTEND;TZID=Asia/Kuala_Lumpur:20241017T130000
DTSTAMP:20260422T231906
CREATED:20250104T091317Z
LAST-MODIFIED:20250104T091317Z
UID:3579-1729159200-1729170000@kggemang.nadi.my
SUMMARY:TAKLIMAT NADI SAFE-SHIELD – SK KUALA BALAH
DESCRIPTION:Bertujuan untuk meningkatkan kesedaran keselamatan dalam talian khususnya kepada pelajar sekolah.
URL:https://kggemang.nadi.my/event/taklimat-nadi-safe-shield-sk-kuala-balah/
LOCATION:SK KUALA BALAH
END:VEVENT
BEGIN:VEVENT
DTSTART;TZID=Asia/Kuala_Lumpur:20241023T100000
DTEND;TZID=Asia/Kuala_Lumpur:20241023T130000
DTSTAMP:20260422T231906
CREATED:20250104T092355Z
LAST-MODIFIED:20250104T092355Z
UID:3582-1729677600-1729688400@kggemang.nadi.my
SUMMARY:TAKLIMAT NADI SAFE-SHIELD – SK JELI 1
DESCRIPTION:Bertujuan untuk meningkatkan kesedaran keselamatan dalam talian khususnya kepada pelajar sekolah.
URL:https://kggemang.nadi.my/event/taklimat-nadi-safe-shield-sk-jeli-1/
LOCATION:SK JELI 1
END:VEVENT
BEGIN:VEVENT
DTSTART;TZID=Asia/Kuala_Lumpur:20241026T090000
DTEND;TZID=Asia/Kuala_Lumpur:20241026T130000
DTSTAMP:20260422T231906
CREATED:20250104T092825Z
LAST-MODIFIED:20250104T092825Z
UID:3585-1729933200-1729947600@kggemang.nadi.my
SUMMARY:E-SUKAN - PERTANDINGAN MOBILE LEGEND PERINGKAT NADI 2024
DESCRIPTION:Melahirkan pelajar yang berilmu dan berketerampilan dalam bidang e-sukan.
URL:https://kggemang.nadi.my/event/e-sukan-pertandingan-mobile-legend-peringkat-nadi-2024/
LOCATION:NADI Kg Gemang\, NADI Kg Gemang
END:VEVENT
END:VCALENDAR