BEGIN:VCALENDAR
VERSION:2.0
PRODID:-//NADI Kampung Gemang - ECPv6.15.13.1//NONSGML v1.0//EN
CALSCALE:GREGORIAN
METHOD:PUBLISH
X-WR-CALNAME:NADI Kampung Gemang
X-ORIGINAL-URL:https://kggemang.nadi.my
X-WR-CALDESC:Events for NADI Kampung Gemang
REFRESH-INTERVAL;VALUE=DURATION:PT1H
X-Robots-Tag:noindex
X-PUBLISHED-TTL:PT1H
BEGIN:VTIMEZONE
TZID:Asia/Kuala_Lumpur
BEGIN:STANDARD
TZOFFSETFROM:+0800
TZOFFSETTO:+0800
TZNAME:+08
DTSTART:20240101T000000
END:STANDARD
END:VTIMEZONE
BEGIN:VEVENT
DTSTART;TZID=Asia/Kuala_Lumpur:20250103T110000
DTEND;TZID=Asia/Kuala_Lumpur:20250103T120000
DTSTAMP:20260421T225814
CREATED:20250118T043255Z
LAST-MODIFIED:20250118T043255Z
UID:4206-1735902000-1735905600@kggemang.nadi.my
SUMMARY:NADI4U – MAHIR MASAK - AMALI MOCKTAIL 3 PERISA
DESCRIPTION:
URL:https://kggemang.nadi.my/event/nadi4u-mahir-masak-amali-mocktail-3-perisa/
LOCATION:NADI Kg Gemang\, NADI Kg Gemang
END:VEVENT
BEGIN:VEVENT
DTSTART;TZID=Asia/Kuala_Lumpur:20250106T110000
DTEND;TZID=Asia/Kuala_Lumpur:20250106T120000
DTSTAMP:20260421T225814
CREATED:20250118T044348Z
LAST-MODIFIED:20250118T044348Z
UID:4208-1736161200-1736164800@kggemang.nadi.my
SUMMARY:NADI4U – MAHIR FOTO – NATURAL LIGHT
DESCRIPTION:
URL:https://kggemang.nadi.my/event/nadi4u-mahir-foto-natural-light/
LOCATION:NADI Kg Gemang\, NADI Kg Gemang
END:VEVENT
BEGIN:VEVENT
DTSTART;TZID=Asia/Kuala_Lumpur:20250110T110000
DTEND;TZID=Asia/Kuala_Lumpur:20250110T120000
DTSTAMP:20260421T225814
CREATED:20250118T044642Z
LAST-MODIFIED:20250118T044642Z
UID:4210-1736506800-1736510400@kggemang.nadi.my
SUMMARY:NADI4U – MAHIR MASAK – LATIHAN AMALI KOPI SEJUK & PANAS
DESCRIPTION:
URL:https://kggemang.nadi.my/event/nadi4u-mahir-masak-latihan-amali-kopi-sejuk-panas/
LOCATION:NADI Kg Gemang\, NADI Kg Gemang
END:VEVENT
BEGIN:VEVENT
DTSTART;TZID=Asia/Kuala_Lumpur:20250113T093000
DTEND;TZID=Asia/Kuala_Lumpur:20250113T113000
DTSTAMP:20260421T225814
CREATED:20250118T074355Z
LAST-MODIFIED:20250118T074355Z
UID:4212-1736760600-1736767800@kggemang.nadi.my
SUMMARY:NADI4U – MAHIR FOTO – LIGHTING IN STUDIO
DESCRIPTION:
URL:https://kggemang.nadi.my/event/nadi4u-mahir-foto-lighting-in-studio/
LOCATION:NADI Kg Gemang\, NADI Kg Gemang
END:VEVENT
BEGIN:VEVENT
DTSTART;TZID=Asia/Kuala_Lumpur:20250117T093000
DTEND;TZID=Asia/Kuala_Lumpur:20250117T113000
DTSTAMP:20260421T225814
CREATED:20250118T074502Z
LAST-MODIFIED:20250118T074502Z
UID:4214-1737106200-1737113400@kggemang.nadi.my
SUMMARY:NADI4U – MAHIR MASAK – ROTI BUN
DESCRIPTION:
URL:https://kggemang.nadi.my/event/nadi4u-mahir-masak-roti-bun/
LOCATION:NADI Kg Gemang\, NADI Kg Gemang
END:VEVENT
BEGIN:VEVENT
DTSTART;TZID=Asia/Kuala_Lumpur:20250118T100000
DTEND;TZID=Asia/Kuala_Lumpur:20250118T110000
DTSTAMP:20260421T225814
CREATED:20250118T075032Z
LAST-MODIFIED:20250118T075032Z
UID:4216-1737194400-1737198000@kggemang.nadi.my
SUMMARY:TAKLIMAT KESEDARAN KESELAMATAN DALAM TALIAN S.A.F.E & SHIELD
DESCRIPTION:
URL:https://kggemang.nadi.my/event/taklimat-kesedaran-keselamatan-dalam-talian-s-a-f-e-shield/
LOCATION:NADI Kg Gemang\, NADI Kg Gemang
END:VEVENT
BEGIN:VEVENT
DTSTART;TZID=Asia/Kuala_Lumpur:20250118T150000
DTEND;TZID=Asia/Kuala_Lumpur:20250118T163000
DTSTAMP:20260421T225814
CREATED:20250120T025419Z
LAST-MODIFIED:20250120T025419Z
UID:4218-1737212400-1737217800@kggemang.nadi.my
SUMMARY:WEBINAR NADI x CYBERSECURITY  SESI 1
DESCRIPTION:
URL:https://kggemang.nadi.my/event/webinar-nadi-x-cybersecurity-sesi-1/
LOCATION:NADI Kg Gemang\, NADI Kg Gemang
END:VEVENT
BEGIN:VEVENT
DTSTART;TZID=Asia/Kuala_Lumpur:20250118T150000
DTEND;TZID=Asia/Kuala_Lumpur:20250118T163000
DTSTAMP:20260421T225814
CREATED:20250120T025955Z
LAST-MODIFIED:20250120T090050Z
UID:4220-1737212400-1737217800@kggemang.nadi.my
SUMMARY:NADI4U - KELAS TIRAMISU VIRAL
DESCRIPTION:
URL:https://kggemang.nadi.my/event/kelas-tiramisu-viral/
LOCATION:NADI Kg Gemang\, NADI Kg Gemang
END:VEVENT
BEGIN:VEVENT
DTSTART;TZID=Asia/Kuala_Lumpur:20250118T150000
DTEND;TZID=Asia/Kuala_Lumpur:20250118T170000
DTSTAMP:20260421T225814
CREATED:20250120T063213Z
LAST-MODIFIED:20250120T090438Z
UID:4222-1737212400-1737219600@kggemang.nadi.my
SUMMARY:Program Khas NADI Nurture – DILEA Pelajar Tingkatan 4/2025 Sesi 3
DESCRIPTION:
URL:https://kggemang.nadi.my/event/program-khas-dilea-bulan-januari/
LOCATION:NADI Kg Gemang\, NADI Kg Gemang
END:VEVENT
BEGIN:VEVENT
DTSTART;TZID=Asia/Kuala_Lumpur:20250119T153000
DTEND;TZID=Asia/Kuala_Lumpur:20250119T163000
DTSTAMP:20260421T225814
CREATED:20250120T085029Z
LAST-MODIFIED:20250120T090242Z
UID:4224-1737300600-1737304200@kggemang.nadi.my
SUMMARY:NADI Nurture – DILEA – Matematik Tingkatan 4/2025 Bulan Januari
DESCRIPTION:
URL:https://kggemang.nadi.my/event/dilea-matematik/
LOCATION:NADI Kg Gemang\, NADI Kg Gemang
END:VEVENT
BEGIN:VEVENT
DTSTART;TZID=Asia/Kuala_Lumpur:20250120T110000
DTEND;TZID=Asia/Kuala_Lumpur:20250120T120000
DTSTAMP:20260421T225814
CREATED:20250120T085844Z
LAST-MODIFIED:20250120T090012Z
UID:4226-1737370800-1737374400@kggemang.nadi.my
SUMMARY:NADI4U - MAHIR FOTO - FOTO EDITING
DESCRIPTION:
URL:https://kggemang.nadi.my/event/mahir-foto-foto-editing/
LOCATION:NADI Kg Gemang\, NADI Kg Gemang
END:VEVENT
BEGIN:VEVENT
DTSTART;TZID=Asia/Kuala_Lumpur:20250120T153000
DTEND;TZID=Asia/Kuala_Lumpur:20250120T163000
DTSTAMP:20260421T225814
CREATED:20250120T085936Z
LAST-MODIFIED:20250120T090306Z
UID:4228-1737387000-1737390600@kggemang.nadi.my
SUMMARY:NADI Nurture – DILEA – Bahasa Melayu Tingkatan 4/2025 Bulan Januari
DESCRIPTION:
URL:https://kggemang.nadi.my/event/dilea-bahasa-melayu/
LOCATION:NADI Kg Gemang\, NADI Kg Gemang
END:VEVENT
BEGIN:VEVENT
DTSTART;TZID=Asia/Kuala_Lumpur:20250121T153000
DTEND;TZID=Asia/Kuala_Lumpur:20250121T163000
DTSTAMP:20260421T225814
CREATED:20250123T160059Z
LAST-MODIFIED:20250123T160059Z
UID:4367-1737473400-1737477000@kggemang.nadi.my
SUMMARY:NADI Nurture – DILEA – Sejarah Tingkatan 4/2025 Bulan Januari
DESCRIPTION:
URL:https://kggemang.nadi.my/event/nadi-nurture-dilea-sejarah-tingkatan-4-2025-bulan-januari/
LOCATION:NADI Kg Gemang\, NADI Kg Gemang
END:VEVENT
BEGIN:VEVENT
DTSTART;TZID=Asia/Kuala_Lumpur:20250123T153000
DTEND;TZID=Asia/Kuala_Lumpur:20250123T163000
DTSTAMP:20260421T225814
CREATED:20250123T160140Z
LAST-MODIFIED:20250123T160140Z
UID:4369-1737646200-1737649800@kggemang.nadi.my
SUMMARY:NADI Nurture – DILEA – Bahasa Inggeris Tingkatan 4/2025 Bulan Januari
DESCRIPTION:
URL:https://kggemang.nadi.my/event/nadi-nurture-dilea-bahasa-inggeris-tingkatan-4-2025-bulan-januari/
LOCATION:NADI Kg Gemang\, NADI Kg Gemang
END:VEVENT
BEGIN:VEVENT
DTSTART;TZID=Asia/Kuala_Lumpur:20250124T110000
DTEND;TZID=Asia/Kuala_Lumpur:20250124T120000
DTSTAMP:20260421T225814
CREATED:20250131T085902Z
LAST-MODIFIED:20250131T085902Z
UID:4375-1737716400-1737720000@kggemang.nadi.my
SUMMARY:NADI4U – MAHIR MASAK – KOREAN GARLIC CHEESE BUN
DESCRIPTION:
URL:https://kggemang.nadi.my/event/nadi4u-mahir-masak-korean-garlic-cheese-bun/
LOCATION:NADI Kg Gemang\, NADI Kg Gemang
END:VEVENT
BEGIN:VEVENT
DTSTART;TZID=Asia/Kuala_Lumpur:20250125T153000
DTEND;TZID=Asia/Kuala_Lumpur:20250125T163000
DTSTAMP:20260421T225814
CREATED:20250131T090536Z
LAST-MODIFIED:20250131T090536Z
UID:4378-1737819000-1737822600@kggemang.nadi.my
SUMMARY:Program Khas NADI Nurture – DILEA Pelajar Tingkatan 4/2024 Sesi 4
DESCRIPTION:
URL:https://kggemang.nadi.my/event/program-khas-nadi-nurture-dilea-pelajar-tingkatan-4-2024-sesi-4/
LOCATION:NADI Kg Gemang\, NADI Kg Gemang
END:VEVENT
BEGIN:VEVENT
DTSTART;TZID=Asia/Kuala_Lumpur:20250128T143000
DTEND;TZID=Asia/Kuala_Lumpur:20250128T153000
DTSTAMP:20260421T225814
CREATED:20250131T090802Z
LAST-MODIFIED:20250131T090802Z
UID:4381-1738074600-1738078200@kggemang.nadi.my
SUMMARY:PROGRAM WEBINAR NADI SAFE & SHIELD 2025 SIRI 1
DESCRIPTION:
URL:https://kggemang.nadi.my/event/program-webinar-nadi-safe-shield-2025-siri-1/
LOCATION:NADI Kg Gemang\, NADI Kg Gemang
END:VEVENT
END:VCALENDAR